BEGIN:VCALENDAR
VERSION:2.0
PRODID:-//Orchard Town Center - ECPv6.15.20//NONSGML v1.0//EN
CALSCALE:GREGORIAN
METHOD:PUBLISH
X-WR-CALNAME:Orchard Town Center
X-ORIGINAL-URL:https://theorchardtowncenter.com
X-WR-CALDESC:Events for Orchard Town Center
REFRESH-INTERVAL;VALUE=DURATION:PT1H
X-Robots-Tag:noindex
X-PUBLISHED-TTL:PT1H
BEGIN:VTIMEZONE
TZID:America/Chicago
BEGIN:DAYLIGHT
TZOFFSETFROM:-0600
TZOFFSETTO:-0500
TZNAME:CDT
DTSTART:20240310T080000
END:DAYLIGHT
BEGIN:STANDARD
TZOFFSETFROM:-0500
TZOFFSETTO:-0600
TZNAME:CST
DTSTART:20241103T070000
END:STANDARD
BEGIN:DAYLIGHT
TZOFFSETFROM:-0600
TZOFFSETTO:-0500
TZNAME:CDT
DTSTART:20250309T080000
END:DAYLIGHT
BEGIN:STANDARD
TZOFFSETFROM:-0500
TZOFFSETTO:-0600
TZNAME:CST
DTSTART:20251102T070000
END:STANDARD
BEGIN:DAYLIGHT
TZOFFSETFROM:-0600
TZOFFSETTO:-0500
TZNAME:CDT
DTSTART:20260308T080000
END:DAYLIGHT
BEGIN:STANDARD
TZOFFSETFROM:-0500
TZOFFSETTO:-0600
TZNAME:CST
DTSTART:20261101T070000
END:STANDARD
END:VTIMEZONE
BEGIN:VEVENT
DTSTART;TZID=America/Chicago:20250903T180000
DTEND;TZID=America/Chicago:20250903T200000
DTSTAMP:20260423T090227
CREATED:20250722T161136Z
LAST-MODIFIED:20250722T163441Z
UID:10000295-1756922400-1756929600@theorchardtowncenter.com
SUMMARY:Yogarita
DESCRIPTION:Find your balance on the mat and toast to tranquility. Join us for an evening of relaxation and fun at Yogarita! Bring your yoga mat to Town Center for a one-hour yoga class taught by the Life Time Westminster teachers\, followed by a margarita at 3 Margaritas. All ages welcome\, must be 21+ to enjoy a margarita. \nBUY TICKETS
URL:https://theorchardtowncenter.com/event/yogarita-2/
CATEGORIES:Fitness,Yoga
ATTACH;FMTTYPE=image/jpeg:https://theorchardtowncenter.com/wp-content/uploads/2025/07/0725_otc_yogarita_web_eventsfeature.jpg
END:VEVENT
BEGIN:VEVENT
DTSTART;TZID=America/Chicago:20250910T180000
DTEND;TZID=America/Chicago:20250910T200000
DTSTAMP:20260423T090227
CREATED:20250722T161201Z
LAST-MODIFIED:20250722T163501Z
UID:10000296-1757527200-1757534400@theorchardtowncenter.com
SUMMARY:Yogarita
DESCRIPTION:Find your balance on the mat and toast to tranquility. Join us for an evening of relaxation and fun at Yogarita! Bring your yoga mat to Town Center for a one-hour yoga class taught by the Life Time Westminster teachers\, followed by a margarita at 3 Margaritas. All ages welcome\, must be 21+ to enjoy a margarita. \nBUY TICKETS
URL:https://theorchardtowncenter.com/event/yogarita-4/
CATEGORIES:Fitness,Yoga
ATTACH;FMTTYPE=image/jpeg:https://theorchardtowncenter.com/wp-content/uploads/2025/07/0725_otc_yogarita_web_eventsfeature.jpg
END:VEVENT
BEGIN:VEVENT
DTSTART;TZID=America/Chicago:20250917T180000
DTEND;TZID=America/Chicago:20250917T200000
DTSTAMP:20260423T090227
CREATED:20250722T161209Z
LAST-MODIFIED:20250722T163517Z
UID:10000297-1758132000-1758139200@theorchardtowncenter.com
SUMMARY:Yogarita
DESCRIPTION:Find your balance on the mat and toast to tranquility. Join us for an evening of relaxation and fun at Yogarita! Bring your yoga mat to Town Center for a one-hour yoga class taught by the Life Time Westminster teachers\, followed by a margarita at 3 Margaritas. All ages welcome\, must be 21+ to enjoy a margarita. \nBUY TICKETS
URL:https://theorchardtowncenter.com/event/yogarita-5/
CATEGORIES:Fitness,Yoga
ATTACH;FMTTYPE=image/jpeg:https://theorchardtowncenter.com/wp-content/uploads/2025/07/0725_otc_yogarita_web_eventsfeature.jpg
END:VEVENT
BEGIN:VEVENT
DTSTART;TZID=America/Chicago:20250924T180000
DTEND;TZID=America/Chicago:20250924T200000
DTSTAMP:20260423T090227
CREATED:20250722T161216Z
LAST-MODIFIED:20250722T163535Z
UID:10000298-1758736800-1758744000@theorchardtowncenter.com
SUMMARY:Yogarita
DESCRIPTION:Find your balance on the mat and toast to tranquility. Join us for an evening of relaxation and fun at Yogarita! Bring your yoga mat to Town Center for a one-hour yoga class taught by the Life Time Westminster teachers\, followed by a margarita at 3 Margaritas. All ages welcome\, must be 21+ to enjoy a margarita. \nBUY TICKETS
URL:https://theorchardtowncenter.com/event/yogarita-6/
CATEGORIES:Fitness,Yoga
ATTACH;FMTTYPE=image/jpeg:https://theorchardtowncenter.com/wp-content/uploads/2025/07/0725_otc_yogarita_web_eventsfeature.jpg
END:VEVENT
END:VCALENDAR