BEGIN:VCALENDAR
VERSION:2.0
PRODID:-//Orchard Town Center - ECPv6.15.20//NONSGML v1.0//EN
CALSCALE:GREGORIAN
METHOD:PUBLISH
X-ORIGINAL-URL:https://theorchardtowncenter.com
X-WR-CALDESC:Events for Orchard Town Center
REFRESH-INTERVAL;VALUE=DURATION:PT1H
X-Robots-Tag:noindex
X-PUBLISHED-TTL:PT1H
BEGIN:VTIMEZONE
TZID:America/Chicago
BEGIN:DAYLIGHT
TZOFFSETFROM:-0600
TZOFFSETTO:-0500
TZNAME:CDT
DTSTART:20240310T080000
END:DAYLIGHT
BEGIN:STANDARD
TZOFFSETFROM:-0500
TZOFFSETTO:-0600
TZNAME:CST
DTSTART:20241103T070000
END:STANDARD
BEGIN:DAYLIGHT
TZOFFSETFROM:-0600
TZOFFSETTO:-0500
TZNAME:CDT
DTSTART:20250309T080000
END:DAYLIGHT
BEGIN:STANDARD
TZOFFSETFROM:-0500
TZOFFSETTO:-0600
TZNAME:CST
DTSTART:20251102T070000
END:STANDARD
BEGIN:DAYLIGHT
TZOFFSETFROM:-0600
TZOFFSETTO:-0500
TZNAME:CDT
DTSTART:20260308T080000
END:DAYLIGHT
BEGIN:STANDARD
TZOFFSETFROM:-0500
TZOFFSETTO:-0600
TZNAME:CST
DTSTART:20261101T070000
END:STANDARD
END:VTIMEZONE
BEGIN:VEVENT
DTSTART;TZID=America/Chicago:20250605T100000
DTEND;TZID=America/Chicago:20250605T110000
DTSTAMP:20260423T072811
CREATED:20250429T175858Z
LAST-MODIFIED:20250502T114330Z
UID:10000223-1749117600-1749121200@theorchardtowncenter.com
SUMMARY:Summer Sweat Series
DESCRIPTION:Join us every Thursday in June by The Orchard stage for a free fitness class. Each week features a workout led by a different local studio. Come have fun\, break a sweat\, and enjoy the energy! All levels welcome\, no experience necessary. This is a FREE event but RSVP is encouraged and walk-ins are welcome. Everyone who joins the fitness class each week will receive a special offer from lululemon. The offer will be valid Thursday after each fitness class until end of business hours for that given Thursday. \nSave Your Spot \n\nClass Schedule: \n\nJune 5th – Elevate Dance Center >> Get ready to move\, groove\, and sweat this summer. Join us for a fun\, high-energy dance class outside that will leave you feeling great! Just bring your good vibes and get ready to dance it out. No experience needed. Please wear clothes and shoes that are comfortable for outdoor movement and bring a water bottle. \nJune 12th – Pure Barre >> Strengthen and tone your way through summer with an energizing barre class! This low-impact\, full-body workout blends ballet-inspired moves with strength training. The Pure Barre class is perfect for all fitness levels. Let’s lift\, tone\, and burn together! Since this class takes place outdoors\, don’t forget to bring your mat. \nJune 19th – Fit4Mom >> Join Fit4Mom in a Stroller Strides® class. A fun\, 60-minute full-body workout that blends strength\, cardio\, and core training\, all while keeping your little one engaged in the stroller. Perfect for all stages of motherhood. Bring your stroller\, bring your kiddo\, and get ready to move! \nJune 26th – MADabolic >> Ready to train with purpose? Join us for a MADabolic workout and experience what group strength training feels like. This isn’t your typical workout – it’s structured\, intentional\, and built to make you stronger. Get strong\, move better and feel unstoppable! Since this class takes place outdoors\, don’t forget to bring a water bottle and sweat towel if needed.
URL:https://theorchardtowncenter.com/event/summer-sweat-series/2025-06-05/
CATEGORIES:Fitness
ATTACH;FMTTYPE=image/png:https://theorchardtowncenter.com/wp-content/uploads/2025/04/0325_otc_summersweat_web_fb.png
END:VEVENT
BEGIN:VEVENT
DTSTART;TZID=America/Chicago:20250612T100000
DTEND;TZID=America/Chicago:20250612T110000
DTSTAMP:20260423T072811
CREATED:20250429T175858Z
LAST-MODIFIED:20250502T114330Z
UID:10000224-1749722400-1749726000@theorchardtowncenter.com
SUMMARY:Summer Sweat Series
DESCRIPTION:Join us every Thursday in June by The Orchard stage for a free fitness class. Each week features a workout led by a different local studio. Come have fun\, break a sweat\, and enjoy the energy! All levels welcome\, no experience necessary. This is a FREE event but RSVP is encouraged and walk-ins are welcome. Everyone who joins the fitness class each week will receive a special offer from lululemon. The offer will be valid Thursday after each fitness class until end of business hours for that given Thursday. \nSave Your Spot \n\nClass Schedule: \n\nJune 5th – Elevate Dance Center >> Get ready to move\, groove\, and sweat this summer. Join us for a fun\, high-energy dance class outside that will leave you feeling great! Just bring your good vibes and get ready to dance it out. No experience needed. Please wear clothes and shoes that are comfortable for outdoor movement and bring a water bottle. \nJune 12th – Pure Barre >> Strengthen and tone your way through summer with an energizing barre class! This low-impact\, full-body workout blends ballet-inspired moves with strength training. The Pure Barre class is perfect for all fitness levels. Let’s lift\, tone\, and burn together! Since this class takes place outdoors\, don’t forget to bring your mat. \nJune 19th – Fit4Mom >> Join Fit4Mom in a Stroller Strides® class. A fun\, 60-minute full-body workout that blends strength\, cardio\, and core training\, all while keeping your little one engaged in the stroller. Perfect for all stages of motherhood. Bring your stroller\, bring your kiddo\, and get ready to move! \nJune 26th – MADabolic >> Ready to train with purpose? Join us for a MADabolic workout and experience what group strength training feels like. This isn’t your typical workout – it’s structured\, intentional\, and built to make you stronger. Get strong\, move better and feel unstoppable! Since this class takes place outdoors\, don’t forget to bring a water bottle and sweat towel if needed.
URL:https://theorchardtowncenter.com/event/summer-sweat-series/2025-06-12/
CATEGORIES:Fitness
ATTACH;FMTTYPE=image/png:https://theorchardtowncenter.com/wp-content/uploads/2025/04/0325_otc_summersweat_web_fb.png
END:VEVENT
BEGIN:VEVENT
DTSTART;TZID=America/Chicago:20250619T100000
DTEND;TZID=America/Chicago:20250619T110000
DTSTAMP:20260423T072811
CREATED:20250429T175858Z
LAST-MODIFIED:20250502T114330Z
UID:10000225-1750327200-1750330800@theorchardtowncenter.com
SUMMARY:Summer Sweat Series
DESCRIPTION:Join us every Thursday in June by The Orchard stage for a free fitness class. Each week features a workout led by a different local studio. Come have fun\, break a sweat\, and enjoy the energy! All levels welcome\, no experience necessary. This is a FREE event but RSVP is encouraged and walk-ins are welcome. Everyone who joins the fitness class each week will receive a special offer from lululemon. The offer will be valid Thursday after each fitness class until end of business hours for that given Thursday. \nSave Your Spot \n\nClass Schedule: \n\nJune 5th – Elevate Dance Center >> Get ready to move\, groove\, and sweat this summer. Join us for a fun\, high-energy dance class outside that will leave you feeling great! Just bring your good vibes and get ready to dance it out. No experience needed. Please wear clothes and shoes that are comfortable for outdoor movement and bring a water bottle. \nJune 12th – Pure Barre >> Strengthen and tone your way through summer with an energizing barre class! This low-impact\, full-body workout blends ballet-inspired moves with strength training. The Pure Barre class is perfect for all fitness levels. Let’s lift\, tone\, and burn together! Since this class takes place outdoors\, don’t forget to bring your mat. \nJune 19th – Fit4Mom >> Join Fit4Mom in a Stroller Strides® class. A fun\, 60-minute full-body workout that blends strength\, cardio\, and core training\, all while keeping your little one engaged in the stroller. Perfect for all stages of motherhood. Bring your stroller\, bring your kiddo\, and get ready to move! \nJune 26th – MADabolic >> Ready to train with purpose? Join us for a MADabolic workout and experience what group strength training feels like. This isn’t your typical workout – it’s structured\, intentional\, and built to make you stronger. Get strong\, move better and feel unstoppable! Since this class takes place outdoors\, don’t forget to bring a water bottle and sweat towel if needed.
URL:https://theorchardtowncenter.com/event/summer-sweat-series/2025-06-19/
CATEGORIES:Fitness
ATTACH;FMTTYPE=image/png:https://theorchardtowncenter.com/wp-content/uploads/2025/04/0325_otc_summersweat_web_fb.png
END:VEVENT
BEGIN:VEVENT
DTSTART;TZID=America/Chicago:20250626T100000
DTEND;TZID=America/Chicago:20250626T110000
DTSTAMP:20260423T072811
CREATED:20250429T175858Z
LAST-MODIFIED:20250502T114330Z
UID:10000226-1750932000-1750935600@theorchardtowncenter.com
SUMMARY:Summer Sweat Series
DESCRIPTION:Join us every Thursday in June by The Orchard stage for a free fitness class. Each week features a workout led by a different local studio. Come have fun\, break a sweat\, and enjoy the energy! All levels welcome\, no experience necessary. This is a FREE event but RSVP is encouraged and walk-ins are welcome. Everyone who joins the fitness class each week will receive a special offer from lululemon. The offer will be valid Thursday after each fitness class until end of business hours for that given Thursday. \nSave Your Spot \n\nClass Schedule: \n\nJune 5th – Elevate Dance Center >> Get ready to move\, groove\, and sweat this summer. Join us for a fun\, high-energy dance class outside that will leave you feeling great! Just bring your good vibes and get ready to dance it out. No experience needed. Please wear clothes and shoes that are comfortable for outdoor movement and bring a water bottle. \nJune 12th – Pure Barre >> Strengthen and tone your way through summer with an energizing barre class! This low-impact\, full-body workout blends ballet-inspired moves with strength training. The Pure Barre class is perfect for all fitness levels. Let’s lift\, tone\, and burn together! Since this class takes place outdoors\, don’t forget to bring your mat. \nJune 19th – Fit4Mom >> Join Fit4Mom in a Stroller Strides® class. A fun\, 60-minute full-body workout that blends strength\, cardio\, and core training\, all while keeping your little one engaged in the stroller. Perfect for all stages of motherhood. Bring your stroller\, bring your kiddo\, and get ready to move! \nJune 26th – MADabolic >> Ready to train with purpose? Join us for a MADabolic workout and experience what group strength training feels like. This isn’t your typical workout – it’s structured\, intentional\, and built to make you stronger. Get strong\, move better and feel unstoppable! Since this class takes place outdoors\, don’t forget to bring a water bottle and sweat towel if needed.
URL:https://theorchardtowncenter.com/event/summer-sweat-series/2025-06-26/
CATEGORIES:Fitness
ATTACH;FMTTYPE=image/png:https://theorchardtowncenter.com/wp-content/uploads/2025/04/0325_otc_summersweat_web_fb.png
END:VEVENT
END:VCALENDAR